BEGIN:VCALENDAR
VERSION:2.0
PRODID:-//Acme Widgets\, Inc.//NONSGML ExportToCalendar//EN
CALSCALE:GREGORIAN
BEGIN:VEVENT
DTSTAMP:20260423T093116Z
UID:29f9a80e-cfc1-4b9f-b386-ac63c9eb3991
DTSTART;TZID="(GMT+01:00) Zagreb":20260421T170000
DTEND;TZID="(GMT+01:00) Zagreb":20260421T170500
LOCATION:Nova Ves 17\, Zagreb
SUMMARY:FOTO IZLOŽBA: Crno Zlato 
URL;VALUE=URI:https://www.zagrebdox.net/en/film/foto-izlozba-crno-zlato
END:VEVENT
END:VCALENDAR
