BEGIN:VCALENDAR
VERSION:2.0
PRODID:-//Acme Widgets\, Inc.//NONSGML ExportToCalendar//EN
CALSCALE:GREGORIAN
BEGIN:VEVENT
DTSTAMP:20260423T091644Z
UID:1f978d4e-d3b5-46d3-9258-1c905597ddbf
DTSTART;TZID="(GMT+01:00) Zagreb":20260421T133000
DTEND;TZID="(GMT+01:00) Zagreb":20260421T133500
LOCATION:Nova Ves 17\, Zagreb
SUMMARY:FOTO IZLOŽBA: Delta Oscar Mike
URL;VALUE=URI:https://www.zagrebdox.net/en/film/foto-izlozba-delta-oscar-mi
 ke
END:VEVENT
END:VCALENDAR
