BEGIN:VCALENDAR
VERSION:2.0
PRODID:-//Acme Widgets\, Inc.//NONSGML ExportToCalendar//EN
CALSCALE:GREGORIAN
BEGIN:VEVENT
DTSTAMP:20260423T092952Z
UID:de610742-ba54-4d63-b6f0-7e82634c8896
DTSTART;TZID="(GMT+01:00) Zagreb":20260422T170000
DTEND;TZID="(GMT+01:00) Zagreb":20260422T170500
LOCATION:Nova Ves 17\, Zagreb
SUMMARY:FOTO IZLOŽBA: DISPLACEMENT Planinska 7
URL;VALUE=URI:https://www.zagrebdox.net/en/film/foto-izlozba-displacement-p
 laninska-7
END:VEVENT
END:VCALENDAR
