BEGIN:VCALENDAR
VERSION:2.0
PRODID:-//Acme Widgets\, Inc.//NONSGML ExportToCalendar//EN
CALSCALE:GREGORIAN
BEGIN:VEVENT
DTSTAMP:20260423T092300Z
UID:d60f470e-07ab-4b88-b3a3-87391301823a
DTSTART;TZID="(GMT+01:00) Zagreb":20260423T133000
DTEND;TZID="(GMT+01:00) Zagreb":20260423T133500
LOCATION:Nova Ves 17\, Zagreb
SUMMARY:FOTO IZLOŽBA: DISPLACEMENT Planinska 7
URL;VALUE=URI:https://www.zagrebdox.net/en/film/foto-izlozba-displacement-p
 laninska-7
END:VEVENT
END:VCALENDAR
