BEGIN:VCALENDAR
VERSION:2.0
PRODID:-//Acme Widgets\, Inc.//NONSGML ExportToCalendar//EN
CALSCALE:GREGORIAN
BEGIN:VEVENT
DTSTAMP:20260423T092036Z
UID:763c8d8c-f3a4-4566-b122-d11e9051e724
DTSTART;TZID="(GMT+01:00) Zagreb":20260424T190000
DTEND;TZID="(GMT+01:00) Zagreb":20260424T190500
LOCATION:Nova Ves 17\, Zagreb
SUMMARY:FOTO IZLOŽBA: Katastrofa brze mode
URL;VALUE=URI:https://www.zagrebdox.net/en/film/foto-izlozba-katastrofa-brz
 e-mode
END:VEVENT
END:VCALENDAR
