BEGIN:VCALENDAR
VERSION:2.0
PRODID:-//Acme Widgets\, Inc.//NONSGML ExportToCalendar//EN
CALSCALE:GREGORIAN
BEGIN:VEVENT
DTSTAMP:20260423T091243Z
UID:25731a1b-a442-43d2-9f95-fe4b9de28761
DTSTART;TZID="(GMT+01:00) Zagreb":20260422T210000
DTEND;TZID="(GMT+01:00) Zagreb":20260422T210500
LOCATION:Nova Ves 17\, Zagreb
SUMMARY:FOTO IZLOŽBA: Granice slobode 2016-2021
URL;VALUE=URI:https://www.zagrebdox.net/en/film/foto-izlozba-granice-slobod
 e-2016-2021
END:VEVENT
END:VCALENDAR
